BEGIN:VCALENDAR
PRODID:-//dvv-bw.de//dvv.Portalplattform//DE
VERSION:2.0
METHOD:PUBLISH
BEGIN:VEVENT
DTSTART:20260429T163000Z
DTEND:20260429T183000Z
DTSTAMP:20260422T105756Z
UID:2381005150-2381005050-1777413600000
SUMMARY:Wortgottesfeier
LOCATION:Kirche St. Cyriak
DESCRIPTION:Wortgottesfeier
CLASS:PUBLIC
X-ALT-DESC;FMTTYPE=text/html:Wortgottesfeier
END:VEVENT
END:VCALENDAR
