BEGIN:VCALENDAR
PRODID:-//dvv-bw.de//dvv.Portalplattform//DE
VERSION:2.0
METHOD:PUBLISH
BEGIN:VEVENT
DTSTART:20260704T220000Z
DTEND:20260704T220000Z
DTSTAMP:20260420T143639Z
UID:2286493858-2286493756-1783202400000
SUMMARY:Wallfahrt nach Moosbronn
DESCRIPTION:Wallfahrt nach Moosbronn
CLASS:PUBLIC
X-ALT-DESC;FMTTYPE=text/html:Wallfahrt nach Moosbronn
END:VEVENT
END:VCALENDAR
