BEGIN:VCALENDAR
PRODID:-//dvv-bw.de//dvv.Portalplattform//DE
VERSION:2.0
METHOD:PUBLISH
BEGIN:VEVENT
DTSTART:20260810T163000Z
DTEND:20260810T183000Z
DTSTAMP:20260422T110921Z
UID:2349477855-2349477904-1786312800000
SUMMARY:Sommergottesdienst
LOCATION:Kirche St. Bernhard
DESCRIPTION:Sommergottesdienst
CLASS:PUBLIC
X-ALT-DESC;FMTTYPE=text/html:Sommergottesdienst
END:VEVENT
END:VCALENDAR
