BEGIN:VCALENDAR
PRODID:-//dvv-bw.de//dvv.Portalplattform//DE
VERSION:2.0
METHOD:PUBLISH
BEGIN:VEVENT
DTSTART:20260719T080000Z
DTEND:20260719T100000Z
DTSTAMP:20260422T110058Z
UID:2292225155-2292225055-1784412000000
SUMMARY:Patrozinium Kirche St. Ignatius
LOCATION:Kirche St. Ignatius Sulzbach
DESCRIPTION:Patrozinium Kirche St. Ignatius
CLASS:PUBLIC
X-ALT-DESC;FMTTYPE=text/html:Patrozinium Kirche St. Ignatius
END:VEVENT
END:VCALENDAR
