BEGIN:VCALENDAR
PRODID:-//dvv-bw.de//dvv.Portalplattform//DE
VERSION:2.0
METHOD:PUBLISH
BEGIN:VEVENT
DTSTART:20260426T080000Z
DTEND:20260426T100000Z
DTSTAMP:20260422T110007Z
UID:2292225152-2292225052-1777154400000
SUMMARY:Patrozinium Kirche St. Georg
LOCATION:Kirche St. Georg Völkersbach
DESCRIPTION:Patrozinium Kirche St. Georg
CLASS:PUBLIC
X-ALT-DESC;FMTTYPE=text/html:Patrozinium Kirche St. Georg
END:VEVENT
END:VCALENDAR
