BEGIN:VCALENDAR
PRODID:-//dvv-bw.de//dvv.Portalplattform//DE
VERSION:2.0
METHOD:PUBLISH
BEGIN:VEVENT
DTSTART:20260809T080000Z
DTEND:20260809T100000Z
DTSTAMP:20260422T112025Z
UID:2292225156-2292225056-1786226400000
SUMMARY:Patrozinium Kirche St. Cyriak
LOCATION:Kirche St. Cyriak
DESCRIPTION:Patrozinium Kirche St. Cyriak
CLASS:PUBLIC
X-ALT-DESC;FMTTYPE=text/html:Patrozinium Kirche St. Cyriak
END:VEVENT
END:VCALENDAR
