BEGIN:VCALENDAR
PRODID:-//dvv-bw.de//dvv.Portalplattform//DE
VERSION:2.0
METHOD:PUBLISH
BEGIN:VEVENT
DTSTART:20260604T070000Z
DTEND:20260604T090000Z
DTSTAMP:20260422T103321Z
UID:2292225153-2292225053-1780524000000
SUMMARY:Eucharistiefeier Fronleichnam mit anschl. Prozession
LOCATION:Kirche St. Cyriak
DESCRIPTION:Eucharistiefeier Fronleichnam mit anschl. Prozession
CLASS:PUBLIC
X-ALT-DESC;FMTTYPE=text/html:Eucharistiefeier Fronleichnam mit anschl. Prozession
END:VEVENT
END:VCALENDAR
